BEGIN:VCALENDAR
VERSION:2.0
PRODID:-//atworkshopsbudapest.hu - ECPv6.15.11//NONSGML v1.0//EN
CALSCALE:GREGORIAN
METHOD:PUBLISH
X-WR-CALNAME:atworkshopsbudapest.hu
X-ORIGINAL-URL:https://atworkshopsbudapest.hu
X-WR-CALDESC:Események atworkshopsbudapest.hu
REFRESH-INTERVAL;VALUE=DURATION:PT1H
X-Robots-Tag:noindex
X-PUBLISHED-TTL:PT1H
BEGIN:VTIMEZONE
TZID:UTC
BEGIN:STANDARD
TZOFFSETFROM:+0000
TZOFFSETTO:+0000
TZNAME:UTC
DTSTART:20220101T000000
END:STANDARD
END:VTIMEZONE
BEGIN:VEVENT
DTSTART;VALUE=DATE:20241114
DTEND;VALUE=DATE:20241118
DTSTAMP:20260420T080755
CREATED:20240607T115426Z
LAST-MODIFIED:20240802T062741Z
UID:3476-1731542400-1731887999@atworkshopsbudapest.hu
SUMMARY:Born to Move Funkcionális vizsgálatok workshop
DESCRIPTION:A Born to Move Funkcionális vizsgálatok (korábban Move to integrate) – Összekapcsoló mozgás a dinamikus tartás- és mozgásvizsgálat új megközelítése. \nEgy logikus felépítésű\, gyors\, páciens központú modell. Középutat jelent az általános testtartásanalízis\, a speciális ortopédiai tesztek és az anatómiai képletek közötti kapcsolatok feltérképezésére. A tartásminták és a funkció együttes megfigyelésével a megfelelő stratégiai pontok meghatározására alapozva végzünk kezeléseket\, nem vadászunk a fájdalomra. \nDiane Lee’s Integrált rendszer elnevezésű modelljének gondolataira alapoztuk a felméréseinket\, amelynek segítségével jobb kérdések születnek bennünk a pácienssel kapcsolatban. Kerüljük a szakkifejezések és a megkötő alapigazságok használatát- ezzel arra biztatunk\, hogy szabadon\, a saját szemeddel fedezz fel. A tenzegritáson alapuló megközelítésünket nem korlátozzuk semmilyen szigorúan követendő protokollra–\, pusztán az anatómia tényszerűségeire támaszkodva bármely területről érkező hallgató képes lesz beépíteni a modell adta lehetőségeket meglévő terápiás módszerei közé. \nTémáink:\n• A kompressziós erők szerepe – A gravitáció\, a talajreakciós erő\, az ízületek veleszületett kongruenciája és kihatása a lágyszövetekre\n• A feszülés és a rövidülés hatásai – Mit jelent a szöveti egyensúly? Milyen szöveti változás befolyásolja a mozgásszabadságot?\n• A szöveti gyengeség hatásai – Ha a testünkre\, mint egy tenzió által stabilizált rendszerre gondolunk\, megfelelő mértékű feszülésre és merevségre van szüksége mind a csontok mind a lágyszövetek részéről. Mi történik\, ha elveszítjük ezt az összetartó tónust\, hogyan nyerjük vissza? \nA képzés célja:\n• A látásmód és a tapintás fejlesztése- lásd\, amit érzel és érezd\, amit látsz\n• Hogy felismerd és célzottan teszteld a mintákat\n• Hogy képes legyél teljesen egyénre szabni a kezelési programokat- egy jó kiindulási alapot találni \nA képzés elvégzésével képes leszel:\n• Ítélkezésmentesen leírni poszturális mintákat\n• Meghatározni a poszturális kompenzációk kiindulópontját\n• Elkülöníteni a kiváltó okot és a válaszreakciót \nA jó kezelési programok jó vizsgálatokból születnek. Habár a testtartás vizsgálata nem állít fel diagnózist\, mégis ezzel kezdődik a megfigyelés\, ami forrása lesz annak\, hogy jobb kérdéseket tegyünk fel és kezdjük a mozgás hatékonyságának megfigyelésére képezni a szemünket. Terapeutaként ezzel olyan szakmai szabadságra tehetsz szert\, amellyel később a saját elképzeléseidnek megfelelően vizsgálódhatsz. \nJelentkezés: https://forms.gle/pQQwwbkkp98AZGG4A
URL:https://atworkshopsbudapest.hu/esemenyek/born-to-move-funkcionalis-vizsgalatok-workshop/
ATTACH;FMTTYPE=image/png:https://atworkshopsbudapest.hu/wp-content/uploads/Born_To_Move_Social_General_asset.png
END:VEVENT
BEGIN:VEVENT
DTSTART;VALUE=DATE:20241107
DTEND;VALUE=DATE:20241111
DTSTAMP:20260420T080755
CREATED:20240607T113739Z
LAST-MODIFIED:20240612T151442Z
UID:3473-1730937600-1731283199@atworkshopsbudapest.hu
SUMMARY:Peter Levin - Gut & more viszcerál tanfolyam
DESCRIPTION:A tüdők és a vesék azon szerveink\, amelyek a legszorosabb kapcsolatban állnak a gerinccel és a végtagokkal. \nA tüdő mechanikai aktivitása a mellkas\, a vállöv formájában és rugalmasságában nyilvánul meg. Ezért a tüdő oszteopátiás kezelésének célja az\, hogy támogassa a testtartáshoz való hozzájárulásukat és központi szerepüket a belső és külső világ közötti gázcsere folyamatában. \nA vesék szomatikus szervek\, amelyek szoros kapcsolatban állnak a test izmaival és csontjaival\, valamint az ágyéki gerinccel és az alsó végtagokkal. A kiválasztórendszer megtestesíti a természetes világgal való „cserénk” másik oldalát- lehetővé teszi\, hogy megszabaduljunk azoktól az anyagoktól\, amelyekre már nincs szükségünk\, vagy amelyek belülről mérgezhetnének minket. \nA húgyhólyag a kontrollált ürítés szerve\, lassan telik meg és nagyon gyorsan ürül ki. Különleges tulajdonsága a\nstressz-relaxáció\, amelynek köszönhetően képes alacsonyan tartani a belső nyomást.\nAz oszteopátiás kezelés célja\, hogy támogassa a húgyhólyagot ebben az alkalmazkodási folyamatban. \nA 3. rész önállóan is elvégezhető. \nJelentkezés: https://atworkshopsbudapest.hu/termek/peter-levin-gut-more-viszceral-tanfolyam/
URL:https://atworkshopsbudapest.hu/esemenyek/peter-levin-gut-more-viszceral-tanfolyam/
ATTACH;FMTTYPE=image/jpeg:https://atworkshopsbudapest.hu/wp-content/uploads/lungs.jpg
END:VEVENT
BEGIN:VEVENT
DTSTART;VALUE=DATE:20240424
DTEND;VALUE=DATE:20240429
DTSTAMP:20260420T080755
CREATED:20221204T201135Z
LAST-MODIFIED:20240317T153422Z
UID:2409-1713916800-1714348799@atworkshopsbudapest.hu
SUMMARY:AT Strukturális Integráció I. modul - Strukturális alapok 5-6.
DESCRIPTION:
URL:https://atworkshopsbudapest.hu/esemenyek/at-strukturalis-integracio-1-modul-strukturalis-alapok-5-6/
ATTACH;FMTTYPE=image/jpeg:https://atworkshopsbudapest.hu/wp-content/uploads/atworkshopsbudapest-at-strukturalis-integracio-1-modul-se5-6-tanfolyam.jpg
END:VEVENT
BEGIN:VEVENT
DTSTART;VALUE=DATE:20240419
DTEND;VALUE=DATE:20240422
DTSTAMP:20260420T080755
CREATED:20230525T092327Z
LAST-MODIFIED:20240312T140811Z
UID:2996-1713484800-1713743999@atworkshopsbudapest.hu
SUMMARY:Slings Essentials
DESCRIPTION:Időpont: 2024. április 19-21.\nOktató: Leanne Hahn \nA Slings Essentials olyan mozgásterapeuták és bodyworker szakemberek számára összeállított átfogó tanfolyam\, akik szeretnek anatómiailag komplex\, valamint testtudatos gyakorlatokat alkalmazni. Ezek a mindennapi életből merítenek és annak minden dimenzióját kitöltik. Ez a gyakorlatias tanfolyam Thomas W. Myers Anatomy Trains koncepciójának azon tulajdonságaira fókuszál\, amelyek a mindennapokhoz szükséges funkciókat és a vitalitást fejlesztik\, igénybe véve a test erőforrásait\, tehát öngyógyítóak.
URL:https://atworkshopsbudapest.hu/esemenyek/slings-essentials/
ATTACH;FMTTYPE=image/jpeg:https://atworkshopsbudapest.hu/wp-content/uploads/atworkshopsbudapest-slings-essentials-course.jpg
END:VEVENT
BEGIN:VEVENT
DTSTART;VALUE=DATE:20240202
DTEND;VALUE=DATE:20240205
DTSTAMP:20260420T080755
CREATED:20221204T172507Z
LAST-MODIFIED:20231222T102648Z
UID:2391-1706832000-1707091199@atworkshopsbudapest.hu
SUMMARY:Anatomy Trains in Motion
DESCRIPTION:Időpont: 2024. február 2-4.\nOktató: Leanne Hahn \nAz Anatomy Trains in Motion olyan mozgásterapeuták és bodyworker szakemberek számára összeállított átfogó tanfolyam\, akik szeretnek anatómiailag komplex\, valamint testtudatos gyakorlatokat alkalmazni. Ezek a mindennapi életből merítenek és annak minden dimenzióját kitöltik. Ez a gyakorlatias tanfolyam Thomas W. Myers Anatomy Trains koncepciójának azon tulajdonságaira fókuszál\, amelyek a mindennapokhoz szükséges funkciókat és a vitalitást fejlesztik\, igénybe véve a test erőforrásait\, tehát öngyógyítóak.
URL:https://atworkshopsbudapest.hu/esemenyek/anatomy-trains-a-mozgasban/
ATTACH;FMTTYPE=image/jpeg:https://atworkshopsbudapest.hu/wp-content/uploads/atworkshopsbudapest-anatomytrains-in-motion-tanfolyam.jpg
END:VEVENT
BEGIN:VEVENT
DTSTART;VALUE=DATE:20231129
DTEND;VALUE=DATE:20231204
DTSTAMP:20260420T080755
CREATED:20221204T200011Z
LAST-MODIFIED:20231001T101357Z
UID:2405-1701216000-1701647999@atworkshopsbudapest.hu
SUMMARY:AT Strukturális Integráció I. modul - Strukturális alapok 3-4.
DESCRIPTION:
URL:https://atworkshopsbudapest.hu/esemenyek/at-strukturalis-integracio-1-modul-strukturalis-alapok-3-4/
ATTACH;FMTTYPE=image/jpeg:https://atworkshopsbudapest.hu/wp-content/uploads/atworkshopsbudapest-at-strukturalis-integracio-1-modul-se3-4-tanfolyam.jpg
END:VEVENT
BEGIN:VEVENT
DTSTART;VALUE=DATE:20230805
DTEND;VALUE=DATE:20230811
DTSTAMP:20260420T080755
CREATED:20221204T200207Z
LAST-MODIFIED:20230519T122948Z
UID:2407-1691193600-1691711999@atworkshopsbudapest.hu
SUMMARY:AT Strukturális Integráció I. modul - Strukturális alapok 1-2.
DESCRIPTION:
URL:https://atworkshopsbudapest.hu/esemenyek/at-strukturalis-integracio-1-modul-strukturalis-alapok-1-2/
ATTACH;FMTTYPE=image/jpeg:https://atworkshopsbudapest.hu/wp-content/uploads/atworkshopsbudapest-at-strukturalis-integracio-1-modul-se1-2-tanfolyam.jpg
END:VEVENT
BEGIN:VEVENT
DTSTART;VALUE=DATE:20230422
DTEND;VALUE=DATE:20230424
DTSTAMP:20260420T080755
CREATED:20221204T172725Z
LAST-MODIFIED:20230201T202149Z
UID:2393-1682121600-1682294399@atworkshopsbudapest.hu
SUMMARY:Bodyreading - testolvasás
DESCRIPTION:BodyReading\n101: Az első napon a relációs anatómiát fedezzük fel. Különlegesen egyszerű gyakorlatokkal és szemléltető példákkal segítjük a térlátás és tapintási készség kifejlődését a vázrendszeri minták és a testben működő interakciók meghatározásához.\nTémáink:\n• A testolvasás nyelvének bevezetése (shift\, tilt\, bend\, rotáció)\, a test geometriájának pontos leírása\n• A csontok kitapintása és térbeli helyzetük leírása\n• Hogyan viselkednek mozgás közben a testtartási minták? \n102: A második napon összefüggésbe hozzuk a mintákat az Anatomy Trains vonalakkal. Rolf gyakori mondása volt\, hogy „nem ott van a probléma\, ahol gondolod”.\nTémáink:\n• Mit jelent a tenzegritás?\n• Hogyan képesek az Anatomy Trains vonalak egy testtartási mintát megtartani?\n• A koncentrikus és excentrikus terhelés\, a test formálására ható erők\n• Hogyan oszlanak el a testen végighaladó erők mozgás közben: hol vannak a normál\, a nem mozgó és túlmozgó szakaszok?\n• Hogyan tud egy helyi korlátozottság kiterjedt távolhatást okozni? A baj forrása nagyon távol is lehet a fájdalom helyétől!\n• A vizsgálati eredmények dokumentálása\, stratégiaalkotás \nA tanfolyamon tanultakat azonnal hasznosíthatod a munkád során. Ez a tudás olyan eszköz lesz a kezedben\, amellyel magasabb szintre emelheted a manuális- és a mozgásterápiát praxisodban. A páciensek testének olvasásával könnyebben meg tudod határozni az elérendő célokat\, a kezelési sorrendet\, a célzott területeket. \nEz a tanfolyam remek előkészítése és kiegészítése az AT Struktúra és funkció workshopnak\, ajánlott minden mozgással foglalkozó szakembernek!
URL:https://atworkshopsbudapest.hu/esemenyek/bodyreading-testolvasas/
ATTACH;FMTTYPE=image/jpeg:https://atworkshopsbudapest.hu/wp-content/uploads/atworkshopsbudapest-bodyreading-tanfolyam-1.jpg
END:VEVENT
END:VCALENDAR